BEGIN:VCALENDAR
VERSION:2.0
PRODID:-//Sierra Junior Tennis Association - ECPv6.15.20//NONSGML v1.0//EN
CALSCALE:GREGORIAN
METHOD:PUBLISH
X-WR-CALNAME:Sierra Junior Tennis Association
X-ORIGINAL-URL:https://sierrajuniortennis.org
X-WR-CALDESC:Events for Sierra Junior Tennis Association
REFRESH-INTERVAL;VALUE=DURATION:PT1H
X-Robots-Tag:noindex
X-PUBLISHED-TTL:PT1H
BEGIN:VTIMEZONE
TZID:UTC
BEGIN:STANDARD
TZOFFSETFROM:+0000
TZOFFSETTO:+0000
TZNAME:UTC
DTSTART:20210101T000000
END:STANDARD
END:VTIMEZONE
BEGIN:VEVENT
DTSTART;VALUE=DATE:20220618
DTEND;VALUE=DATE:20220619
DTSTAMP:20260422T095717
CREATED:20220308T000143Z
LAST-MODIFIED:20220308T000143Z
UID:2708-1655510400-1655596799@sierrajuniortennis.org
SUMMARY:Zephyr Cove Singles Tournament
DESCRIPTION:REGISTER TODAY for the SJTA Junior Tennis Tournament Tour.  Participants will play one-day only (with the exception of Tahoe Donner) and snacks will be provided.
URL:https://sierrajuniortennis.org/event/zephyr-cove-singles-tournament/
LOCATION:Zephyr Cove\, Zephyr Cove\, NV
END:VEVENT
BEGIN:VEVENT
DTSTART;TZID=UTC:20220618T090000
DTEND;TZID=UTC:20220618T100000
DTSTAMP:20260422T095717
CREATED:20220307T230207Z
LAST-MODIFIED:20220812T015005Z
UID:2671-1655542800-1655546400@sierrajuniortennis.org
SUMMARY:Sparks 10 and Under Free Program
DESCRIPTION:For our youngest athletes from 5-10 years old\, this junior development program utilizes a system of modified rules including smaller racquets\, smaller courts\, larger and lighter balls\, and a more simple scoring system. Be sure to register as participation is limited.
URL:https://sierrajuniortennis.org/event/sparks-10-and-under-free-program-3/
LOCATION:Burgess Park\, 1605 Pyramid Way\, Sparks\, NV\, 89431\, United States
END:VEVENT
BEGIN:VEVENT
DTSTART;TZID=UTC:20220618T101500
DTEND;TZID=UTC:20220618T111500
DTSTAMP:20260422T095717
CREATED:20220307T230908Z
LAST-MODIFIED:20220307T230908Z
UID:2679-1655547300-1655550900@sierrajuniortennis.org
SUMMARY:Sparks 16 and Under Beginner Free Program
DESCRIPTION:These junior beginner learning camps are designed for all youth ages 11 – 18 who are new to tennis. These free clinics are offered at Burgess Court every 3rd Saturday of the month\, weather permitting.
URL:https://sierrajuniortennis.org/event/sparks-16-and-under-beginner-free-program-3/
LOCATION:Burgess Park\, 1605 Pyramid Way\, Sparks\, NV\, 89431\, United States
END:VEVENT
END:VCALENDAR