BEGIN:VCALENDAR
VERSION:2.0
PRODID:-//Sierra Junior Tennis Association - ECPv6.15.20//NONSGML v1.0//EN
CALSCALE:GREGORIAN
METHOD:PUBLISH
X-ORIGINAL-URL:https://sierrajuniortennis.org
X-WR-CALDESC:Events for Sierra Junior Tennis Association
REFRESH-INTERVAL;VALUE=DURATION:PT1H
X-Robots-Tag:noindex
X-PUBLISHED-TTL:PT1H
BEGIN:VTIMEZONE
TZID:UTC
BEGIN:STANDARD
TZOFFSETFROM:+0000
TZOFFSETTO:+0000
TZNAME:UTC
DTSTART:20210101T000000
END:STANDARD
END:VTIMEZONE
BEGIN:VEVENT
DTSTART;TZID=UTC:20220629T093000
DTEND;TZID=UTC:20220629T120000
DTSTAMP:20260420T160853
CREATED:20220308T050237Z
LAST-MODIFIED:20220308T050237Z
UID:2775-1656495000-1656504000@sierrajuniortennis.org
SUMMARY:Sparks Boys and Girls Club Summer Tennis Camp
DESCRIPTION:SJTA partners with the Boys and Girls Club of Truckee Meadows every summer to offer tennis camps across the street from the William N. Pennington Facility at the Reno High School Tennis Courts and Burgess Park (transportation provided) in Sparks. Please contact the BGC at (775) 331-5437 to register.
URL:https://sierrajuniortennis.org/event/sparks-boys-and-girls-club-summer-tennis-camp-2022-06-29/
LOCATION:Burgess Park\, 1605 Pyramid Way\, Sparks\, NV\, 89431\, United States
END:VEVENT
BEGIN:VEVENT
DTSTART;TZID=UTC:20220629T153000
DTEND;TZID=UTC:20220629T170000
DTSTAMP:20260420T160853
CREATED:20220307T232246Z
LAST-MODIFIED:20220307T232246Z
UID:3022-1656516600-1656522000@sierrajuniortennis.org
SUMMARY:Sparks Junior Tennis Academy
DESCRIPTION:For our athletes from 12-17 years old\, this junior development program will improve your game and take you to the next level. Be sure to register as space is limited. Price is $35 for five sessions\, $10 for drop-in.
URL:https://sierrajuniortennis.org/event/sparks-junior-tennis-academy-3-2022-06-29/
LOCATION:Reed High School
END:VEVENT
END:VCALENDAR