BEGIN:VCALENDAR
VERSION:2.0
PRODID:-//Sierra Junior Tennis Association - ECPv6.15.20//NONSGML v1.0//EN
CALSCALE:GREGORIAN
METHOD:PUBLISH
X-WR-CALNAME:Sierra Junior Tennis Association
X-ORIGINAL-URL:https://sierrajuniortennis.org
X-WR-CALDESC:Events for Sierra Junior Tennis Association
REFRESH-INTERVAL;VALUE=DURATION:PT1H
X-Robots-Tag:noindex
X-PUBLISHED-TTL:PT1H
BEGIN:VTIMEZONE
TZID:UTC
BEGIN:STANDARD
TZOFFSETFROM:+0000
TZOFFSETTO:+0000
TZNAME:UTC
DTSTART:20210101T000000
END:STANDARD
END:VTIMEZONE
BEGIN:VEVENT
DTSTART;VALUE=DATE:20220924
DTEND;VALUE=DATE:20220925
DTSTAMP:20260419T085345
CREATED:20220308T002713Z
LAST-MODIFIED:20220308T002944Z
UID:2731-1663977600-1664063999@sierrajuniortennis.org
SUMMARY:Caughlin Club Doubles Tournament
DESCRIPTION:REGISTER TODAY for the SJTA Junior Tennis Tournament Tour.  One day tournament\, snacks will be provided.
URL:https://sierrajuniortennis.org/event/caughlin-club-doubles-tournament/
LOCATION:Reno Tennis Center\, 2601 Plumas Street\, Reno\, NV\, 89509\, United States
END:VEVENT
END:VCALENDAR