BEGIN:VCALENDAR
VERSION:2.0
PRODID:-//Sierra Junior Tennis Association - ECPv6.15.20//NONSGML v1.0//EN
CALSCALE:GREGORIAN
METHOD:PUBLISH
X-WR-CALNAME:Sierra Junior Tennis Association
X-ORIGINAL-URL:https://sierrajuniortennis.org
X-WR-CALDESC:Events for Sierra Junior Tennis Association
REFRESH-INTERVAL;VALUE=DURATION:PT1H
X-Robots-Tag:noindex
X-PUBLISHED-TTL:PT1H
BEGIN:VTIMEZONE
TZID:UTC
BEGIN:STANDARD
TZOFFSETFROM:+0000
TZOFFSETTO:+0000
TZNAME:UTC
DTSTART:20170101T000000
END:STANDARD
END:VTIMEZONE
BEGIN:VEVENT
DTSTART;TZID=UTC:20200606T130000
DTEND;TZID=UTC:20200606T150000
DTSTAMP:20260420T154600
CREATED:20200311T024639Z
LAST-MODIFIED:20200311T024713Z
UID:1670-1591448400-1591455600@sierrajuniortennis.org
SUMMARY:FREE Reno Tennis Center Jamboree
DESCRIPTION:FREE Tennis Jamboree at the Reno Tennis Center for juniors ages 5 – 18. Limited to 50 participants. Lunch and snacks will be provided by the Sierra Junior Tennis Association.  Registration required by calling the Reno Tennis Center at 775-689-2975.
URL:https://sierrajuniortennis.org/event/free-reno-tennis-center-jamboree-2-2/
LOCATION:Reno Tennis Center\, 2601 Plumas Street\, Reno\, NV\, 89509\, United States
END:VEVENT
BEGIN:VEVENT
DTSTART;TZID=UTC:20200125T173000
DTEND;TZID=UTC:20200125T223000
DTSTAMP:20260420T154600
CREATED:20190131T221036Z
LAST-MODIFIED:20190201T050758Z
UID:1331-1579973400-1579991400@sierrajuniortennis.org
SUMMARY:2020 Benefit Gala
DESCRIPTION:Our Annual Fundraising Gala is our primary source of revenue to fund our junior tennis programs throughout the year. \nTheme: Celebration 2020 with a 1920’s Them \nOnline Registration Coming This Summer! \nYou can reserve a ticket today by mailing a check to: \nSierra Junior Tennis Association\nP.O. Box 6928\nReno\, NV 89513
URL:https://sierrajuniortennis.org/event/2019-benefit-gala-2/
LOCATION:Nevada Automobile Museum\, 10 Lake Street\, Reno\, NV\, 89501\, United States
END:VEVENT
BEGIN:VEVENT
DTSTART;TZID=UTC:20190608T090000
DTEND;TZID=UTC:20190608T120000
DTSTAMP:20260420T154600
CREATED:20190401T201440Z
LAST-MODIFIED:20190401T201440Z
UID:1453-1559984400-1559995200@sierrajuniortennis.org
SUMMARY:Invitation Only Intensive Camp
DESCRIPTION:A high intensity tennis camp for our high school players who get a chance to train like college athletes on all aspects of the game: technical\, tactical\, physical and mental. Players are divided by age and ability for games and drills.  The invitational will be given to the grand prix champions of 2018; other athletes will need a recommendation from a coach or pro.  The program is offered once a month from May thru October. \nTo be considered\, email: tennis@sierrajuniortennis.org. \n 
URL:https://sierrajuniortennis.org/event/high-school-intensive-camp-2-2-2-3-2/
LOCATION:Nevada Wolf Pack McArthur Tennis Center\, 400 Bartlett Street\, Reno\, NV\, 89512\, United States
END:VEVENT
BEGIN:VEVENT
DTSTART;TZID=UTC:20190601T130000
DTEND;TZID=UTC:20190601T150000
DTSTAMP:20260420T154600
CREATED:20190309T082521Z
LAST-MODIFIED:20190309T082521Z
UID:1450-1559394000-1559401200@sierrajuniortennis.org
SUMMARY:FREE Reno Tennis Center Jamboree
DESCRIPTION:FREE Tennis Jamboree at the Reno Tennis Center for juniors ages 5 – 18. Limited to 50 participants. Lunch and snacks will be provided by the Sierra Junior Tennis Association.  Registration required by calling the Reno Tennis Center at 775-689-2975.
URL:https://sierrajuniortennis.org/event/free-reno-tennis-center-jamboree-2/
LOCATION:Reno Tennis Center\, 2601 Plumas Street\, Reno\, NV\, 89509\, United States
END:VEVENT
BEGIN:VEVENT
DTSTART;TZID=UTC:20190505T090000
DTEND;TZID=UTC:20190505T120000
DTSTAMP:20260420T154600
CREATED:20190303T055659Z
LAST-MODIFIED:20190309T082823Z
UID:1422-1557046800-1557057600@sierrajuniortennis.org
SUMMARY:Invitation Only Intensive Camp
DESCRIPTION:A high intensity tennis camp for our high school players who get a chance to train like college athletes on all aspects of the game: technical\, tactical\, physical and mental. Players are divided by age and ability for games and drills.  The invitational will be given to the grand prix champions of 2018; other athletes will need a recommendation from a coach or pro.  The program is offered once a month from March thru October. \nTo be considered\, email: tennis@sierrajuniortennis.org. \n 
URL:https://sierrajuniortennis.org/event/high-school-intensive-camp-2-2-2-3/
LOCATION:Nevada Wolf Pack McArthur Tennis Center\, 400 Bartlett Street\, Reno\, NV\, 89512\, United States
END:VEVENT
BEGIN:VEVENT
DTSTART;TZID=UTC:20190420T100000
DTEND;TZID=UTC:20190420T113000
DTSTAMP:20260420T154600
CREATED:20190201T053017Z
LAST-MODIFIED:20190201T053017Z
UID:1344-1555754400-1555759800@sierrajuniortennis.org
SUMMARY:Intensive Camp
DESCRIPTION:This camp is open to athletes between the ages of 11 – 18 unable to participate in the Invitational Camp.  Youth under age 11 can be recommended by a pro for this program if they are above the level of the 10 & Under Learning Camp. The program is offered on Saturdays: April 20th\, May 4th\, and June 15th. \nTo register\, email: tennis@sierrajuniortennis.org. \n 
URL:https://sierrajuniortennis.org/event/high-school-intensive-camp-2-2-2-2/
LOCATION:Galena High School\, 3600 Butch Cassidy Dr\, Reno\, NV\, 89511\, United States
END:VEVENT
BEGIN:VEVENT
DTSTART;TZID=UTC:20190414T130000
DTEND;TZID=UTC:20190414T150000
DTSTAMP:20260420T154600
CREATED:20190303T075710Z
LAST-MODIFIED:20190303T075710Z
UID:1442-1555246800-1555254000@sierrajuniortennis.org
SUMMARY:Big Brothers Big Sisters Free Clinic
DESCRIPTION:The SJTA is partnering with Big Brothers/Big Sisters for a FREE clinic.  Membership with BBBS is required.  For additional information\, please contact Beth Osborne at bosborne@bbbsnn.org
URL:https://sierrajuniortennis.org/event/big-brothers-big-sisters-free-clinic-2/
LOCATION:South Reno Tennis / Bishop Manogue High School\, 110 Bishop Manogue Drive\, Reno\, NV\, 89511\, United States
ORGANIZER;CN="Beth Osborne":MAILTO:bosborne@bbbsnn.org 
END:VEVENT
BEGIN:VEVENT
DTSTART;VALUE=DATE:20190126
DTEND;VALUE=DATE:20190127
DTSTAMP:20260420T154600
CREATED:20180410T042617Z
LAST-MODIFIED:20180410T042617Z
UID:928-1548460800-1548547199@sierrajuniortennis.org
SUMMARY:2019 Benefit Gala
DESCRIPTION:Our Annual Fundraising Gala is our primary source of revenue to fund our junior tennis programs throughout the year. \nTheme: 50’s Rock ‘n’ Roll \nOnline Registration Coming This Summer! \nYou can reserve a ticket today by mailing a check to: \nSierra Junior Tennis Association\nP.O. Box 6928\nReno\, NV 89513
URL:https://sierrajuniortennis.org/event/2019-benefit-gala/
LOCATION:Nevada Automobile Museum\, 10 Lake Street\, Reno\, NV\, 89501\, United States
END:VEVENT
BEGIN:VEVENT
DTSTART;VALUE=DATE:20180922
DTEND;VALUE=DATE:20180924
DTSTAMP:20260420T154600
CREATED:20180413T220443Z
LAST-MODIFIED:20180413T220443Z
UID:981-1537574400-1537747199@sierrajuniortennis.org
SUMMARY:Tahoe Donner 10th Annual Fall Junior Open
DESCRIPTION:
URL:https://sierrajuniortennis.org/event/tahoe-donner-10th-annual-fall-junior-open/
LOCATION:Tahoe Donner Tennis Club\, 11509 Northwoods Blvd\, Truckee\, CA\, 96161\, United States
END:VEVENT
BEGIN:VEVENT
DTSTART;VALUE=DATE:20180915
DTEND;VALUE=DATE:20180916
DTSTAMP:20260420T154600
CREATED:20180410T033601Z
LAST-MODIFIED:20180410T033734Z
UID:907-1536969600-1537055999@sierrajuniortennis.org
SUMMARY:SJTA Grand Prix Tournament: Singles
DESCRIPTION:Earn Grand Prix Points at the Reno Tennis Center Fall Singles Round-Robin Tournament \nFor more information on the SJTA summer tournaments and Grand Prix points\, click here. \nTo register on Top Dog\, click here.
URL:https://sierrajuniortennis.org/event/sjta-grand-prix-tournament-singles-5/
LOCATION:Reno Tennis Center\, 2601 Plumas Street\, Reno\, NV\, 89509\, United States
END:VEVENT
BEGIN:VEVENT
DTSTART;TZID=UTC:20180826T090000
DTEND;TZID=UTC:20180826T120000
DTSTAMP:20260420T154600
CREATED:20180502T020707Z
LAST-MODIFIED:20180502T020707Z
UID:993-1535274000-1535284800@sierrajuniortennis.org
SUMMARY:High School Intensive Camp
DESCRIPTION:A high intensity tennis camp for our high school players who get a chance to train like college athletes on all aspects of the game: technical\, tactical\, physical and mental. Players are divided by age and ability for games and drills.  Camp space is limited to the first 24 players who register and a meal is provided. \nTo register\, email: tennis@sierrajuniortennis.org. \n 
URL:https://sierrajuniortennis.org/event/high-school-intensive-camp-2-2-2/
LOCATION:Nevada Wolf Pack McArthur Tennis Center\, 400 Bartlett Street\, Reno\, NV\, 89512\, United States
END:VEVENT
BEGIN:VEVENT
DTSTART;VALUE=DATE:20180825
DTEND;VALUE=DATE:20180826
DTSTAMP:20260420T154600
CREATED:20180410T033314Z
LAST-MODIFIED:20180410T040522Z
UID:905-1535155200-1535241599@sierrajuniortennis.org
SUMMARY:SJTA Grand Prix Tournament: Doubles
DESCRIPTION:Earn Grand Prix Points at the Caughlin Athletic Club Doubles Round-Robin Tournament \nFor more information on the SJTA summer tournaments and Grand Prix points\, click here. \nTo register on Top Dog\, click here.
URL:https://sierrajuniortennis.org/event/sjta-grand-prix-tournament-doubles/
LOCATION:Caughlin Athletic Club\, 4100 Caughlin Parkway\, Reno\, NV\, 89519\, United States
END:VEVENT
BEGIN:VEVENT
DTSTART;VALUE=DATE:20180819
DTEND;VALUE=DATE:20180820
DTSTAMP:20260420T154600
CREATED:20180410T033130Z
LAST-MODIFIED:20180410T040542Z
UID:903-1534636800-1534723199@sierrajuniortennis.org
SUMMARY:SJTA Grand Prix Tournament: Singles
DESCRIPTION:Earn Grand Prix Points at the Caughlin Athletic Club Singles Round-Robin Tournament \nFor more information on the SJTA summer tournaments and Grand Prix points\, click here. \nTo register on Top Dog\, click here.
URL:https://sierrajuniortennis.org/event/sjta-grand-prix-tournament-singles-4/
LOCATION:Caughlin Athletic Club\, 4100 Caughlin Parkway\, Reno\, NV\, 89519\, United States
END:VEVENT
BEGIN:VEVENT
DTSTART;TZID=UTC:20180720T180000
DTEND;TZID=UTC:20180720T200000
DTSTAMP:20260420T154600
CREATED:20180410T060231Z
LAST-MODIFIED:20180624T031935Z
UID:961-1532109600-1532116800@sierrajuniortennis.org
SUMMARY:Junior Varsity Team Tennis
DESCRIPTION:Team tennis is a fun\, interactive way to compete with your friends in a team environment. Ages 10 to 18 welcome. Only 6 teams are accepted into each of the Team Tennis Leagues. Teams will be made up of a minimum of three girls and three boys. If you are interested in volunteering to be a captain\, please contact tennis@sierrajuniortennis.org for additional information. \nREGISTER HERE
URL:https://sierrajuniortennis.org/event/varsity-team-tennis-2-2-2-2-2-2/
LOCATION:South Reno Tennis / Bishop Manogue High School\, 110 Bishop Manogue Drive\, Reno\, NV\, 89511\, United States
END:VEVENT
BEGIN:VEVENT
DTSTART;TZID=UTC:20180720T180000
DTEND;TZID=UTC:20180720T200000
DTSTAMP:20260420T154600
CREATED:20180410T055610Z
LAST-MODIFIED:20180624T032118Z
UID:954-1532109600-1532116800@sierrajuniortennis.org
SUMMARY:Varsity Team Tennis
DESCRIPTION:Team tennis is a fun\, interactive way to compete with your friends in a team environment. Ages 10 to 18 welcome. Only 6 teams are accepted into each of the Team Tennis Leagues. Teams will be made up of a minimum of three girls and three boys. If you are interested in volunteering to be a captain\, please contact tennis@sierrajuniortennis.org for additional information. \nREGISTER HERE
URL:https://sierrajuniortennis.org/event/varsity-team-tennis-2-2-2/
LOCATION:TBD
END:VEVENT
BEGIN:VEVENT
DTSTART;TZID=UTC:20180714T090000
DTEND;TZID=UTC:20180714T120000
DTSTAMP:20260420T154600
CREATED:20180502T020525Z
LAST-MODIFIED:20180713T184815Z
UID:991-1531558800-1531569600@sierrajuniortennis.org
SUMMARY:High School Intensive Camp - Note change in venue for 7/14
DESCRIPTION:A high intensity tennis camp for our high school players who get a chance to train like college athletes on all aspects of the game: technical\, tactical\, physical and mental. Players are divided by age and ability for games and drills.  Camp space is limited to the first 24 players who register and a meal is provided. \nTo register\, email: tennis@sierrajuniortennis.org. \n 
URL:https://sierrajuniortennis.org/event/high-school-intensive-camp-2-2/
LOCATION:South Reno Tennis / Bishop Manogue High School\, 110 Bishop Manogue Drive\, Reno\, NV\, 89511\, United States
END:VEVENT
BEGIN:VEVENT
DTSTART;TZID=UTC:20180713T180000
DTEND;TZID=UTC:20180713T200000
DTSTAMP:20260420T154600
CREATED:20180410T060206Z
LAST-MODIFIED:20180713T185052Z
UID:959-1531504800-1531512000@sierrajuniortennis.org
SUMMARY:Team Tennis - Varsity & Junior Varsity - Note change in venue for 7/13
DESCRIPTION:Team tennis is a fun\, interactive way to compete with your friends in a team environment. Ages 10 to 18 welcome. Only 6 teams are accepted into each of the Team Tennis Leagues. Teams will be made up of a minimum of three girls and three boys. If you are interested in volunteering to be a captain\, please contact tennis@sierrajuniortennis.org for additional information. \nVarsity:  REGISTER HERE
URL:https://sierrajuniortennis.org/event/varsity-team-tennis-2-2-2-2-2/
LOCATION:Reno Tennis Center\, 2601 Plumas Street\, Reno\, NV\, 89509\, United States
END:VEVENT
BEGIN:VEVENT
DTSTART;VALUE=DATE:20180709
DTEND;VALUE=DATE:20180713
DTSTAMP:20260420T154600
CREATED:20180410T040238Z
LAST-MODIFIED:20180410T040238Z
UID:916-1531094400-1531439999@sierrajuniortennis.org
SUMMARY:Boys & Girls Club Summer Camp
DESCRIPTION:The Sierra Junior Tennis Association is proud to sponsor this summer tennis camp with the Boys & Girls Club of Truckee Meadows (B&GC).  Registration is required through the B&GC Pennington facility. Please contact them to register: (775) 331-5437. \nB&GC summer programs can be found here.
URL:https://sierrajuniortennis.org/event/boys-girls-club-summer-camp/
LOCATION:Reno High School\, 395 Booth Street\, Reno\, NV\, 89509\, United States
END:VEVENT
BEGIN:VEVENT
DTSTART;VALUE=DATE:20180707
DTEND;VALUE=DATE:20180708
DTSTAMP:20260420T154600
CREATED:20180410T032717Z
LAST-MODIFIED:20180410T040609Z
UID:901-1530921600-1531007999@sierrajuniortennis.org
SUMMARY:SJTA Grand Prix Tournament: Singles
DESCRIPTION:Earn Grand Prix Points at the Reno Tennis Center Singles Round-Robin Tournament \nFor more information on the SJTA summer tournaments and Grand Prix points\, click here. \nTo register on Top Dog\, click here.
URL:https://sierrajuniortennis.org/event/sjta-grand-prix-tournament-singles-3/
LOCATION:Reno Tennis Center\, 2601 Plumas Street\, Reno\, NV\, 89509\, United States
END:VEVENT
BEGIN:VEVENT
DTSTART;VALUE=DATE:20180616
DTEND;VALUE=DATE:20180618
DTSTAMP:20260420T154600
CREATED:20180413T215749Z
LAST-MODIFIED:20180413T220528Z
UID:978-1529107200-1529279999@sierrajuniortennis.org
SUMMARY:Tahoe Donner 9th Annual Summer Junior Open
DESCRIPTION:
URL:https://sierrajuniortennis.org/event/tahoe-donner-9th-annual-summer-junior-open/
LOCATION:Tahoe Donner Tennis Club\, 11509 Northwoods Blvd\, Truckee\, CA\, 96161\, United States
END:VEVENT
BEGIN:VEVENT
DTSTART;TZID=UTC:20180615T180000
DTEND;TZID=UTC:20180615T200000
DTSTAMP:20260420T154600
CREATED:20180410T054850Z
LAST-MODIFIED:20180412T065851Z
UID:946-1529085600-1529092800@sierrajuniortennis.org
SUMMARY:Junior Varsity Team Tennis
DESCRIPTION:Team tennis is a fun\, interactive way to compete with your friends in a team environment. Ages 10 to 18 welcome. Only 6 teams are accepted into each of the Team Tennis Leagues. Teams will be made up of a minimum of three girls and three boys. If you are interested in volunteering to be a captain\, please contact tennis@sierrajuniortennis.org for additional information. \nJunior Varsity: REGISTER HERE
URL:https://sierrajuniortennis.org/event/junior-varsity-team-tennis-3/
LOCATION:South Reno Tennis / Bishop Manogue High School\, 110 Bishop Manogue Drive\, Reno\, NV\, 89511\, United States
END:VEVENT
BEGIN:VEVENT
DTSTART;TZID=UTC:20180609T090000
DTEND;TZID=UTC:20180609T120000
DTSTAMP:20260420T154600
CREATED:20180502T020330Z
LAST-MODIFIED:20180502T020330Z
UID:989-1528534800-1528545600@sierrajuniortennis.org
SUMMARY:High School Intensive Camp
DESCRIPTION:A high intensity tennis camp for our high school players who get a chance to train like college athletes on all aspects of the game: technical\, tactical\, physical and mental. Players are divided by age and ability for games and drills.  Camp space is limited to the first 24 players who register and a meal is provided. \nTo register\, email: tennis@sierrajuniortennis.org. \n 
URL:https://sierrajuniortennis.org/event/high-school-intensive-camp-2/
LOCATION:Nevada Wolf Pack McArthur Tennis Center\, 400 Bartlett Street\, Reno\, NV\, 89512\, United States
END:VEVENT
BEGIN:VEVENT
DTSTART;TZID=UTC:20180608T180000
DTEND;TZID=UTC:20180608T223000
DTSTAMP:20260420T154600
CREATED:20180410T035318Z
LAST-MODIFIED:20180410T035318Z
UID:912-1528480800-1528497000@sierrajuniortennis.org
SUMMARY:Fundraising Event: An Evening Under The Stars
DESCRIPTION:An event to benefit under-resourced kids in our NJTL Programs \nEnjoy the spectacular Verdi grounds of Jim Fernhoff complete with ponds\, caboose\, waterfall\, and train station.   Ticket price includes Open Bar\, Dinner\, Music & Dancing! \nTo Register for the event\, click here. \nFor more information on our NJTA programs\, click here.
URL:https://sierrajuniortennis.org/event/fundraising-event-evening-stars/
LOCATION:Train Depot\, 400 Sylvan Drive\, Reno\, NV\, 89523\, United States
END:VEVENT
BEGIN:VEVENT
DTSTART;TZID=UTC:20180602T130000
DTEND;TZID=UTC:20180602T150000
DTSTAMP:20260420T154600
CREATED:20180410T030433Z
LAST-MODIFIED:20180410T030511Z
UID:890-1527944400-1527951600@sierrajuniortennis.org
SUMMARY:FREE Reno Tennis Center Jamboree
DESCRIPTION:FREE Tennis Jamboree at the Reno Tennis Center for juniors ages 5 – 13. Limited to 50 participants. Refreshments will be provided by the Sierra Junior Tennis Association.  Registration required by calling the Reno Tennis Center at 775-689-2975.
URL:https://sierrajuniortennis.org/event/free-reno-tennis-center-jamboree/
LOCATION:Reno Tennis Center\, 2601 Plumas Street\, Reno\, NV\, 89509\, United States
END:VEVENT
BEGIN:VEVENT
DTSTART;VALUE=DATE:20180602
DTEND;VALUE=DATE:20180603
DTSTAMP:20260420T154600
CREATED:20180410T032214Z
LAST-MODIFIED:20180410T040651Z
UID:897-1527897600-1527983999@sierrajuniortennis.org
SUMMARY:SJTA Grand Prix Tournament: Singles
DESCRIPTION:Earn Grand Prix Points at the Lakeridge Tennis Club Round-Robin Tournament \nFor more information on the SJTA summer tournaments and Grand Prix points\, click here. \nTo register on Top Dog\, click here.
URL:https://sierrajuniortennis.org/event/sjta-grand-prix-tournament-singles-2/
LOCATION:Lakeridge Tennis Club\, 6000 Plumas Street\, NV\, 89513\, United States
END:VEVENT
BEGIN:VEVENT
DTSTART;VALUE=DATE:20180519
DTEND;VALUE=DATE:20180520
DTSTAMP:20260420T154600
CREATED:20180410T031731Z
LAST-MODIFIED:20180410T040723Z
UID:895-1526688000-1526774399@sierrajuniortennis.org
SUMMARY:SJTA Grand Prix Tournament: Singles
DESCRIPTION:Earn Grand Prix Points at the South Reno Tennis Singles Junior Round-Robin Tournament \nFor more information on the SJTA summer tournaments and Grand Prix points\, click here. \nTo register on Top Dog\, click here. \n  \n 
URL:https://sierrajuniortennis.org/event/sjta-grand-prix-tournament-singles/
LOCATION:South Reno Tennis / Bishop Manogue High School\, 110 Bishop Manogue Drive\, Reno\, NV\, 89511\, United States
END:VEVENT
BEGIN:VEVENT
DTSTART;TZID=UTC:20180518T180000
DTEND;TZID=UTC:20180518T200000
DTSTAMP:20260420T154600
CREATED:20180410T054708Z
LAST-MODIFIED:20180412T070023Z
UID:944-1526666400-1526673600@sierrajuniortennis.org
SUMMARY:Junior Varsity Team Tennis
DESCRIPTION:Team tennis is a fun\, interactive way to compete with your friends in a team environment. Ages 10 to 18 welcome. Only 6 teams are accepted into each of the Team Tennis Leagues. Teams will be made up of a minimum of three girls and three boys. If you are interested in volunteering to be a captain\, please contact tennis@sierrajuniortennis.org for additional information. \nJunior Varsity: REGISTER HERE
URL:https://sierrajuniortennis.org/event/junior-varsity-team-tennis-2/
LOCATION:Lakeridge Tennis Club\, 6000 Plumas Street\, NV\, 89513\, United States
END:VEVENT
BEGIN:VEVENT
DTSTART;TZID=UTC:20180512T090000
DTEND;TZID=UTC:20180512T120000
DTSTAMP:20260420T154600
CREATED:20180410T011201Z
LAST-MODIFIED:20180410T011201Z
UID:888-1526115600-1526126400@sierrajuniortennis.org
SUMMARY:High School Intensive Camp
DESCRIPTION:A high intensity tennis camp for our high school players who get a chance to train like college athletes on all aspects of the game: technical\, tactical\, physical and mental. Players are divided by age and ability for games and drills.  Camp space is limited to the first 24 players who register and a meal is provided. \nTo register\, email: tennis@sierrajuniortennis.org. \n 
URL:https://sierrajuniortennis.org/event/high-school-intensive-camp/
LOCATION:Nevada Wolf Pack McArthur Tennis Center\, 400 Bartlett Street\, Reno\, NV\, 89512\, United States
END:VEVENT
BEGIN:VEVENT
DTSTART;TZID=UTC:20180511T180000
DTEND;TZID=UTC:20180511T200000
DTSTAMP:20260420T154600
CREATED:20180410T055354Z
LAST-MODIFIED:20180412T070050Z
UID:950-1526061600-1526068800@sierrajuniortennis.org
SUMMARY:Varsity Team Tennis
DESCRIPTION:Team tennis is a fun\, interactive way to compete with your friends in a team environment. Ages 10 to 18 welcome. Only 6 teams are accepted into each of the Team Tennis Leagues. Teams will be made up of a minimum of three girls and three boys. If you are interested in volunteering to be a captain\, please contact tennis@sierrajuniortennis.org for additional information. \nREGISTER HERE
URL:https://sierrajuniortennis.org/event/varsity-team-tennis-2/
LOCATION:Lakeridge Tennis Club\, 6000 Plumas Street\, NV\, 89513\, United States
END:VEVENT
BEGIN:VEVENT
DTSTART;TZID=UTC:20180511T180000
DTEND;TZID=UTC:20180511T200000
DTSTAMP:20260420T154600
CREATED:20180410T054531Z
LAST-MODIFIED:20180412T070112Z
UID:942-1526061600-1526068800@sierrajuniortennis.org
SUMMARY:Junior Varsity Team Tennis
DESCRIPTION:Team tennis is a fun\, interactive way to compete with your friends in a team environment. Ages 10 to 18 welcome. Only 6 teams are accepted into each of the Team Tennis Leagues. Teams will be made up of a minimum of three girls and three boys. If you are interested in volunteering to be a captain\, please contact tennis@sierrajuniortennis.org for additional information. \nJunior Varsity: REGISTER HERE
URL:https://sierrajuniortennis.org/event/junior-varsity-team-tennis/
LOCATION:Caughlin Athletic Club\, 4100 Caughlin Parkway\, Reno\, NV\, 89519\, United States
END:VEVENT
END:VCALENDAR