BEGIN:VCALENDAR
VERSION:2.0
PRODID:-//Sierra Junior Tennis Association - ECPv6.15.20//NONSGML v1.0//EN
CALSCALE:GREGORIAN
METHOD:PUBLISH
X-WR-CALNAME:Sierra Junior Tennis Association
X-ORIGINAL-URL:https://sierrajuniortennis.org
X-WR-CALDESC:Events for Sierra Junior Tennis Association
REFRESH-INTERVAL;VALUE=DURATION:PT1H
X-Robots-Tag:noindex
X-PUBLISHED-TTL:PT1H
BEGIN:VTIMEZONE
TZID:UTC
BEGIN:STANDARD
TZOFFSETFROM:+0000
TZOFFSETTO:+0000
TZNAME:UTC
DTSTART:20190101T000000
END:STANDARD
END:VTIMEZONE
BEGIN:VEVENT
DTSTART;TZID=UTC:20200808T110000
DTEND;TZID=UTC:20200808T120000
DTSTAMP:20260422T083254
CREATED:20200325T192324Z
LAST-MODIFIED:20200730T030551Z
UID:1748-1596884400-1596888000@sierrajuniortennis.org
SUMMARY:Kids Pickleball Clinic
DESCRIPTION:Improve your hand/eye coordination and tennis skills thru pickleball!  This program is for juniors ages 6 thru 12. To register\, contact Andres at (775) 689-2975 or NVTENNISPRO@AOL.COM. \n2020 Dates: Saturdays once a month from 11:00am-12:00pm – June 6\, July 11\, August 8\, September 5\, October 3. \n 
URL:https://sierrajuniortennis.org/event/free-kids-pickleball-clinic-2020-06-06-2020-08-01/
LOCATION:Reno Tennis Center\, 2601 Plumas Street\, Reno\, NV\, 89509\, United States
END:VEVENT
BEGIN:VEVENT
DTSTART;TZID=UTC:20200815T090000
DTEND;TZID=UTC:20200815T103000
DTSTAMP:20260422T083254
CREATED:20200902T225148Z
LAST-MODIFIED:20200902T225442Z
UID:1950-1597482000-1597487400@sierrajuniortennis.org
SUMMARY:16 & Under Beginner Clinic
DESCRIPTION:These junior beginner learning camps are designed for all youth 16 & Under who are new to tennis. These free clinics are offered at Burgess Court every 3rd Saturday of the month\, weather permitting. Email tennis@sierrajuniortennis.org to register. \nAges:  16 & under\nTime:  9:00 – 10:30 am \n 
URL:https://sierrajuniortennis.org/event/free-16-under-beginner-clinic-in-sparks/
LOCATION:Burgess Park\, 1605 Pyramid Way\, Sparks\, NV\, 89431\, United States
END:VEVENT
END:VCALENDAR