BEGIN:VCALENDAR
VERSION:2.0
PRODID:-//Sierra Junior Tennis Association - ECPv6.15.20//NONSGML v1.0//EN
CALSCALE:GREGORIAN
METHOD:PUBLISH
X-WR-CALNAME:Sierra Junior Tennis Association
X-ORIGINAL-URL:https://sierrajuniortennis.org
X-WR-CALDESC:Events for Sierra Junior Tennis Association
REFRESH-INTERVAL;VALUE=DURATION:PT1H
X-Robots-Tag:noindex
X-PUBLISHED-TTL:PT1H
BEGIN:VTIMEZONE
TZID:UTC
BEGIN:STANDARD
TZOFFSETFROM:+0000
TZOFFSETTO:+0000
TZNAME:UTC
DTSTART:20210101T000000
END:STANDARD
END:VTIMEZONE
BEGIN:VEVENT
DTSTART;TZID=UTC:20220706T153000
DTEND;TZID=UTC:20220706T170000
DTSTAMP:20260420T144050
CREATED:20220307T232246Z
LAST-MODIFIED:20220307T232246Z
UID:3023-1657121400-1657126800@sierrajuniortennis.org
SUMMARY:Sparks Junior Tennis Academy
DESCRIPTION:For our athletes from 12-17 years old\, this junior development program will improve your game and take you to the next level. Be sure to register as space is limited. Price is $35 for five sessions\, $10 for drop-in.
URL:https://sierrajuniortennis.org/event/sparks-junior-tennis-academy-3-2022-07-06/
LOCATION:Reed High School
END:VEVENT
BEGIN:VEVENT
DTSTART;TZID=UTC:20220713T153000
DTEND;TZID=UTC:20220713T170000
DTSTAMP:20260420T144050
CREATED:20220307T232246Z
LAST-MODIFIED:20220307T232246Z
UID:3024-1657726200-1657731600@sierrajuniortennis.org
SUMMARY:Sparks Junior Tennis Academy
DESCRIPTION:For our athletes from 12-17 years old\, this junior development program will improve your game and take you to the next level. Be sure to register as space is limited. Price is $35 for five sessions\, $10 for drop-in.
URL:https://sierrajuniortennis.org/event/sparks-junior-tennis-academy-3-2022-07-13/
LOCATION:Reed High School
END:VEVENT
BEGIN:VEVENT
DTSTART;TZID=UTC:20220716T090000
DTEND;TZID=UTC:20220716T100000
DTSTAMP:20260420T144050
CREATED:20220307T230249Z
LAST-MODIFIED:20220307T230249Z
UID:2673-1657962000-1657965600@sierrajuniortennis.org
SUMMARY:Sparks 10 and Under Free Program
DESCRIPTION:For our youngest athletes from 5-10 years old\, this junior development program utilizes a system of modified rules including smaller racquets\, smaller courts\, larger and lighter balls\, and a more simple scoring system. Be sure to register as participation is limited.
URL:https://sierrajuniortennis.org/event/sparks-10-and-under-free-program-4/
LOCATION:Burgess Park\, 1605 Pyramid Way\, Sparks\, NV\, 89431\, United States
END:VEVENT
BEGIN:VEVENT
DTSTART;TZID=UTC:20220716T101500
DTEND;TZID=UTC:20220716T111500
DTSTAMP:20260420T144050
CREATED:20220307T230938Z
LAST-MODIFIED:20220812T015251Z
UID:2681-1657966500-1657970100@sierrajuniortennis.org
SUMMARY:Sparks 18 and Under Beginner Free Program
DESCRIPTION:These junior beginner learning camps are designed for all youth ages 11 – 18 who are new to tennis. These free clinics are offered at Burgess Court every 3rd Saturday of the month\, weather permitting.
URL:https://sierrajuniortennis.org/event/sparks-16-and-under-beginner-free-program-4/
LOCATION:Burgess Park\, 1605 Pyramid Way\, Sparks\, NV\, 89431\, United States
END:VEVENT
BEGIN:VEVENT
DTSTART;TZID=UTC:20220720T153000
DTEND;TZID=UTC:20220720T170000
DTSTAMP:20260420T144050
CREATED:20220307T232246Z
LAST-MODIFIED:20220307T232246Z
UID:3025-1658331000-1658336400@sierrajuniortennis.org
SUMMARY:Sparks Junior Tennis Academy
DESCRIPTION:For our athletes from 12-17 years old\, this junior development program will improve your game and take you to the next level. Be sure to register as space is limited. Price is $35 for five sessions\, $10 for drop-in.
URL:https://sierrajuniortennis.org/event/sparks-junior-tennis-academy-3-2022-07-20/
LOCATION:Reed High School
END:VEVENT
BEGIN:VEVENT
DTSTART;VALUE=DATE:20220724
DTEND;VALUE=DATE:20220725
DTSTAMP:20260420T144050
CREATED:20220308T000949Z
LAST-MODIFIED:20220430T231849Z
UID:2713-1658620800-1658707199@sierrajuniortennis.org
SUMMARY:Washoe Tennis Club Singles Tournament
DESCRIPTION:REGISTER TODAY for the SJTA Junior Tennis Tournament Tour.  Participants will play one-day only and snacks will be provided.
URL:https://sierrajuniortennis.org/event/reno-tennis-club-singles-tournament/
LOCATION:Washoe Tennis Club\, 2335 W. Moana Lane\, Reno\, NV\, 89509\, United States
END:VEVENT
BEGIN:VEVENT
DTSTART;TZID=UTC:20220726T090000
DTEND;TZID=UTC:20220726T150000
DTSTAMP:20260420T144050
CREATED:20220406T040827Z
LAST-MODIFIED:20220406T040857Z
UID:2901-1658826000-1658847600@sierrajuniortennis.org
SUMMARY:Skiing is Believing Summer Tennis Camp
DESCRIPTION:We partner with Skiing is Believing to add a full day of tennis as part of their activity program for the summer! Registration with SIB is required.
URL:https://sierrajuniortennis.org/event/skiing-is-believing-summer-tennis-camp/
LOCATION:TBD
END:VEVENT
BEGIN:VEVENT
DTSTART;TZID=UTC:20220727T153000
DTEND;TZID=UTC:20220727T170000
DTSTAMP:20260420T144050
CREATED:20220307T232246Z
LAST-MODIFIED:20220307T232246Z
UID:3026-1658935800-1658941200@sierrajuniortennis.org
SUMMARY:Sparks Junior Tennis Academy
DESCRIPTION:For our athletes from 12-17 years old\, this junior development program will improve your game and take you to the next level. Be sure to register as space is limited. Price is $35 for five sessions\, $10 for drop-in.
URL:https://sierrajuniortennis.org/event/sparks-junior-tennis-academy-3-2022-07-27/
LOCATION:Reed High School
END:VEVENT
BEGIN:VEVENT
DTSTART;VALUE=DATE:20220730
DTEND;VALUE=DATE:20220731
DTSTAMP:20260420T144050
CREATED:20220308T001921Z
LAST-MODIFIED:20220308T001921Z
UID:2717-1659139200-1659225599@sierrajuniortennis.org
SUMMARY:Carson High School Singles Tournament
DESCRIPTION:REGISTER TODAY for the SJTA Junior Tennis Tournament Tour.  Participants will play one-day only (with the exception of Tahoe Donner) and snacks will be provided.
URL:https://sierrajuniortennis.org/event/carson-high-school-singles-tournament/
LOCATION:Carson High School\, 1111 N. Saliman Road\, Carson City\, 89701
END:VEVENT
END:VCALENDAR